BEGIN:VCALENDAR
VERSION:2.0
PRODID:-//hacksw/handcal//NONSGML v1.0//EN
BEGIN:VEVENT
DTSTART:20260513T133000Z
DTEND:20260513T160000Z
LOCATION:Salle Villa \n129 avenue Charles de Gaulle \n92200 NEUILLY-SUR-SEINE
ORGANIZER;CN=Nicolas Theyssier:MAILTO:ntheyssier@v-originale.com
SUMMARY:Créer sa société, Devenir indépendant :bar_chart: Consultant.e NUMBR
DESCRIPTION:Vous souhaitez devenir indépendant et créer votre société mais ne savez pas quel statut choisir ?La conférence avec Numbr est faite pour vous : une présentation complète des statuts de société (micro ...
URL:https://connect.version-originale.com/fr/event/creer-sa-societe-devenir-independant-bar-chart-consultant-e-numbr/2026/05/13/662
BEGIN:VALARM
TRIGGER:-P0DT1H0M0S
ACTION:DISPLAY
END:VALARM
END:VEVENT
END:VCALENDAR